BEGIN:VCALENDAR
VERSION:2.0
METHOD:PUBLISH
BEGIN:VEVENT
DTSTART:20260425T170000Z
DTEND:20260426T220000Z
LOCATION:San Bernardino, CA 92407 (Full address will be shown on Fri, Apr 24 12:00am)
TRANSP: OPAQUE
SEQUENCE:0
UID:
DTSTAMP:20260423T222042Z
SUMMARY:North San Bernardino Estate Sale April 25 - 26, 2026 from 10:00 a.m. - 3:00 p.m. each day.
DESCRIPTION:North San Bernardino Estate Sale April 25 - 26, 2026 from 10:00 a.m. - 3:00 p.m. each day.
UID:1777004442
STREET-ADDRESS:See website
POSTAL-CODE:92407
LOCALITY:San Bernardino
REGION:ABBREV=CA
COUNTRY:ABBREV=US;ABBREV=USA:United States
URL;TYPE=Event Listing:https://estatesales.org/estate-sales/ca/san-bernardino/92407/north-san-bernardino-estate-sale-2437020
PRIORITY:1
CLASS:PUBLIC
SEQUENCE:0
STATUS:CONFIRMED
TRANSP:OPAQUE
END:VEVENT
END:VCALENDAR
