BEGIN:VCALENDAR
VERSION:2.0
METHOD:PUBLISH
BEGIN:VEVENT
DTSTART:20260425T140000Z
DTEND:20260426T190000Z
LOCATION:Gainesville, VA 20155 (Full address will be shown on Fri, Apr 24 7:00am)
TRANSP: OPAQUE
SEQUENCE:0
UID:
DTSTAMP:20260422T100705Z
SUMMARY:Gainesville’s Heritage Hunt
DESCRIPTION:Gainesville’s Heritage Hunt HTG Estate Services 
UID:1776874025
STREET-ADDRESS:See website
POSTAL-CODE:20155
LOCALITY:Gainesville
REGION:ABBREV=VA
COUNTRY:ABBREV=US;ABBREV=USA:United States
URL;TYPE=Event Listing:https://estatesales.org/estate-sales/va/gainesville-/20155/gainesvilles-heritage-hunt-2436554
PRIORITY:1
CLASS:PUBLIC
SEQUENCE:0
STATUS:CONFIRMED
TRANSP:OPAQUE
END:VEVENT
END:VCALENDAR
