BEGIN:VCALENDAR
VERSION:2.0
METHOD:PUBLISH
BEGIN:VEVENT
DTSTART:20260425T140000Z
DTEND:20260426T190000Z
LOCATION:Bethesda, MD 20817 (Full address will be shown on Fri, Apr 24 9:00am)
TRANSP: OPAQUE
SEQUENCE:0
UID:
DTSTAMP:20260420T161023Z
SUMMARY:Big Moon Little Stars in Bethesda!
DESCRIPTION:Big Moon Little Stars in Bethesda! Big Moon Little Stars 
UID:1776723023
STREET-ADDRESS:See website
POSTAL-CODE:20817
LOCALITY:Bethesda
REGION:ABBREV=MD
COUNTRY:ABBREV=US;ABBREV=USA:United States
URL;TYPE=Event Listing:https://estatesales.org/estate-sales/md/bethesda/20817/big-moon-little-stars-in-2436156
PRIORITY:1
CLASS:PUBLIC
SEQUENCE:0
STATUS:CONFIRMED
TRANSP:OPAQUE
END:VEVENT
END:VCALENDAR
