BEGIN:VCALENDAR
VERSION:2.0
METHOD:PUBLISH
BEGIN:VEVENT
DTSTART:20260425T170000Z
DTEND:20260426T220000Z
LOCATION:Henderson, NV 89015 (Full address will be shown on Fri, Apr 24 9:30am)
TRANSP: OPAQUE
SEQUENCE:0
UID:
DTSTAMP:20260422T061449Z
SUMMARY:Farm house Finds and Vintage collectibles plus great Antique Furniture
DESCRIPTION:Farm house Finds and Vintage collectibles plus great Antique Furniture Caring Transitions #36127 
UID:1776860089
STREET-ADDRESS:See website
POSTAL-CODE:89015
LOCALITY:Henderson
REGION:ABBREV=NV
COUNTRY:ABBREV=US;ABBREV=USA:United States
URL;TYPE=Event Listing:https://estatesales.org/estate-sales/nv/henderson/89015/farm-house-finds-and-vintage-2435583
PRIORITY:1
CLASS:PUBLIC
SEQUENCE:0
STATUS:CONFIRMED
TRANSP:OPAQUE
END:VEVENT
END:VCALENDAR
