BEGIN:VCALENDAR
VERSION:2.0
METHOD:PUBLISH
BEGIN:VEVENT
DTSTART:20260425T150000Z
DTEND:20260425T210000Z
LOCATION:Brookfield, WI 53045 (Full address will be shown on Thu, Apr 23 12:00am)
TRANSP: OPAQUE
SEQUENCE:0
UID:
DTSTAMP:20260420T005756Z
SUMMARY:All In The Family Brookfield Picker’s Estate Sale
DESCRIPTION:All In The Family Brookfield Picker’s Estate Sale All in the Family Estate Sales 
UID:1776668276
STREET-ADDRESS:See website
POSTAL-CODE:53045
LOCALITY:Brookfield
REGION:ABBREV=WI
COUNTRY:ABBREV=US;ABBREV=USA:United States
URL;TYPE=Event Listing:https://estatesales.org/estate-sales/wi/brookfield/53045/all-in-the-family-brookfield-2436112
PRIORITY:1
CLASS:PUBLIC
SEQUENCE:0
STATUS:CONFIRMED
TRANSP:OPAQUE
END:VEVENT
END:VCALENDAR
