BEGIN:VCALENDAR
VERSION:2.0
METHOD:PUBLISH
BEGIN:VEVENT
DTSTART:20260425T140000Z
DTEND:20260425T190000Z
LOCATION:Easton, PA 18042 (Full address will be shown on Fri, Apr 24 9:00am)
TRANSP: OPAQUE
SEQUENCE:0
UID:
DTSTAMP:20260421T150931Z
SUMMARY:GoldenTree Part I The Collector Sale Easton, PA
DESCRIPTION:GoldenTree Part I The Collector Sale Easton, PA GoldenTree Team LLC 
UID:1776805771
STREET-ADDRESS:See website
POSTAL-CODE:18042
LOCALITY:Easton
REGION:ABBREV=PA
COUNTRY:ABBREV=US;ABBREV=USA:United States
URL;TYPE=Event Listing:https://estatesales.org/estate-sales/pa/easton/18042/goldentree-part-i-the-collector-2436386
PRIORITY:1
CLASS:PUBLIC
SEQUENCE:0
STATUS:CONFIRMED
TRANSP:OPAQUE
END:VEVENT
END:VCALENDAR
