BEGIN:VCALENDAR
VERSION:2.0
METHOD:PUBLISH
BEGIN:VEVENT
DTSTART:20260425T150000Z
DTEND:20260426T220000Z
LOCATION:Oklahoma City, OK 73112 (Full address will be shown on Sat, Apr 25 12:00am)
TRANSP: OPAQUE
SEQUENCE:0
UID:
DTSTAMP:20260423T045837Z
SUMMARY:Precious Possessions Estate Sale in NW Oklahoma City!
DESCRIPTION:Precious Possessions Estate Sale in NW Oklahoma City! Precious Possessions Estate Sales 
UID:1776941917
STREET-ADDRESS:See website
POSTAL-CODE:73112
LOCALITY:Oklahoma City
REGION:ABBREV=OK
COUNTRY:ABBREV=US;ABBREV=USA:United States
URL;TYPE=Event Listing:https://estatesales.org/estate-sales/ok/oklahoma-city-/73112/precious-possessions-estate-sale-in-2436787
PRIORITY:1
CLASS:PUBLIC
SEQUENCE:0
STATUS:CONFIRMED
TRANSP:OPAQUE
END:VEVENT
END:VCALENDAR
