BEGIN:VCALENDAR
VERSION:2.0
METHOD:PUBLISH
BEGIN:VEVENT
DTSTART:20260425T130000Z
DTEND:20260426T200000Z
LOCATION:Virginia Beach, VA 23456 (Full address will be shown on Sat, Apr 25 6:00am)
TRANSP: OPAQUE
SEQUENCE:0
UID:
DTSTAMP:20260419T194546Z
SUMMARY:Upscale Contemporary - Stunning furnishings and decor
DESCRIPTION:Upscale Contemporary - Stunning furnishings and decor Estate Sales of Virginia 
UID:1776649546
STREET-ADDRESS:See website
POSTAL-CODE:23456
LOCALITY:Virginia Beach
REGION:ABBREV=VA
COUNTRY:ABBREV=US;ABBREV=USA:United States
URL;TYPE=Event Listing:https://estatesales.org/estate-sales/va/virginia-beach/23456/upscale-contemporary-stunning-furnishings-and-2436030
PRIORITY:1
CLASS:PUBLIC
SEQUENCE:0
STATUS:CONFIRMED
TRANSP:OPAQUE
END:VEVENT
END:VCALENDAR
