BEGIN:VCALENDAR
VERSION:2.0
METHOD:PUBLISH
BEGIN:VEVENT
DTSTART:20260425T130000Z
DTEND:20260426T190000Z
LOCATION:Manchester, NH 03104 (Full address will be shown on Fri, Apr 24 12:00am)
TRANSP: OPAQUE
SEQUENCE:0
UID:
DTSTAMP:20260423T062741Z
SUMMARY:Mighty Manchester NH Downsizing Estate Sale
DESCRIPTION:Mighty Manchester NH Downsizing Estate Sale OPUS Estate Sales and Downsizing Specialist LLC 
UID:1776947261
STREET-ADDRESS:See website
POSTAL-CODE:03104
LOCALITY:Manchester
REGION:ABBREV=NH
COUNTRY:ABBREV=US;ABBREV=USA:United States
URL;TYPE=Event Listing:https://estatesales.org/estate-sales/nh/manchester/03104/mighty-manchester-nh-downsizing-estate-2436454
PRIORITY:1
CLASS:PUBLIC
SEQUENCE:0
STATUS:CONFIRMED
TRANSP:OPAQUE
END:VEVENT
END:VCALENDAR
