BEGIN:VCALENDAR
VERSION:2.0
METHOD:PUBLISH
BEGIN:VEVENT
DTSTART:20260425T140000Z
DTEND:20260426T190000Z
LOCATION:Mchenry, IL 60050 (Full address will be shown on Fri, Apr 24 3:00pm)
TRANSP: OPAQUE
SEQUENCE:0
UID:
DTSTAMP:20260422T160747Z
SUMMARY:McHenry Estate Clearance Sale: Kiln, Furniture, Antiques, Cameras & More
DESCRIPTION:McHenry Estate Clearance Sale: Kiln, Furniture, Antiques, Cameras & More
UID:1776895667
STREET-ADDRESS:See website
POSTAL-CODE:60050
LOCALITY:Mchenry
REGION:ABBREV=IL
COUNTRY:ABBREV=US;ABBREV=USA:United States
URL;TYPE=Event Listing:https://estatesales.org/estate-sales/il/mchenry/60050/mchenry-estate-clearance-sale-kiln-2436658
PRIORITY:1
CLASS:PUBLIC
SEQUENCE:0
STATUS:CONFIRMED
TRANSP:OPAQUE
END:VEVENT
END:VCALENDAR
