BEGIN:VCALENDAR
VERSION:2.0
METHOD:PUBLISH
BEGIN:VEVENT
DTSTART:20260425T160000Z
DTEND:20260426T210000Z
LOCATION:San Leandro, CA 94577 (Full address will be shown on Fri, Apr 24 9:00am)
TRANSP: OPAQUE
SEQUENCE:0
UID:
DTSTAMP:20260422T042442Z
SUMMARY:Home Sweet Vintage Estate Sale
DESCRIPTION:Home Sweet Vintage Estate Sale Heart and Home Estate Sales 
UID:1776853482
STREET-ADDRESS:See website
POSTAL-CODE:94577
LOCALITY:San Leandro
REGION:ABBREV=CA
COUNTRY:ABBREV=US;ABBREV=USA:United States
URL;TYPE=Event Listing:https://estatesales.org/estate-sales/ca/san-leandro/94577/home-sweet-vintage-estate-sale-2436528
PRIORITY:1
CLASS:PUBLIC
SEQUENCE:0
STATUS:CONFIRMED
TRANSP:OPAQUE
END:VEVENT
END:VCALENDAR
