BEGIN:VCALENDAR
VERSION:2.0
METHOD:PUBLISH
BEGIN:VEVENT
DTSTART:20260425T130000Z
DTEND:20260426T180000Z
LOCATION:Odenton, MD 21113 (Full address will be shown on Wed, Apr 22 5:00pm)
TRANSP: OPAQUE
SEQUENCE:0
UID:
DTSTAMP:20260421T144717Z
SUMMARY:Red Apron Estate Sale in Odenton!
DESCRIPTION:Red Apron Estate Sale in Odenton! Red Apron Estate Sales 
UID:1776804437
STREET-ADDRESS:See website
POSTAL-CODE:21113
LOCALITY:Odenton
REGION:ABBREV=MD
COUNTRY:ABBREV=US;ABBREV=USA:United States
URL;TYPE=Event Listing:https://estatesales.org/estate-sales/md/odenton/21113/red-apron-estate-sale-in-2436134
PRIORITY:1
CLASS:PUBLIC
SEQUENCE:0
STATUS:CONFIRMED
TRANSP:OPAQUE
END:VEVENT
END:VCALENDAR
