BEGIN:VCALENDAR
VERSION:2.0
METHOD:PUBLISH
BEGIN:VEVENT
DTSTART:20260425T140000Z
DTEND:20260426T190000Z
LOCATION:Wheaton, IL 60189 (Full address will be shown on Fri, Apr 24 12:00am)
TRANSP: OPAQUE
SEQUENCE:0
UID:
DTSTAMP:20260420T005405Z
SUMMARY:A MOMENT IN TIME - Wheaton - Electronics JVC Numark DBX Banjo Clock Airplanes Fine art and more!!
DESCRIPTION:A MOMENT IN TIME - Wheaton - Electronics JVC Numark DBX Banjo Clock Airplanes Fine art and more!! A Moment In Time Estate Sales,INC 
UID:1776668045
STREET-ADDRESS:See website
POSTAL-CODE:60189
LOCALITY:Wheaton
REGION:ABBREV=IL
COUNTRY:ABBREV=US;ABBREV=USA:United States
URL;TYPE=Event Listing:https://estatesales.org/estate-sales/il/wheaton/60189/a-moment-in-time-wheaton-2427850
PRIORITY:1
CLASS:PUBLIC
SEQUENCE:0
STATUS:CONFIRMED
TRANSP:OPAQUE
END:VEVENT
END:VCALENDAR
