BEGIN:VCALENDAR
VERSION:2.0
METHOD:PUBLISH
BEGIN:VEVENT
DTSTART:20260425T160000Z
DTEND:20260425T180000Z
LOCATION:Palm Desert, CA 92211 (Full address will be shown on Fri, Apr 24 12:00am)
TRANSP: OPAQUE
SEQUENCE:0
UID:
DTSTAMP:20260422T192131Z
SUMMARY:DESERT PALMS ESTATE SALES invites you to an "itsy bitsy, teenie weenie" sale in Sun City Palm Desert
DESCRIPTION:DESERT PALMS ESTATE SALES invites you to an "itsy bitsy, teenie weenie" sale in Sun City Palm Desert Desert Palms Estate Sales 
UID:1776907291
STREET-ADDRESS:See website
POSTAL-CODE:92211
LOCALITY:Palm Desert
REGION:ABBREV=CA
COUNTRY:ABBREV=US;ABBREV=USA:United States
URL;TYPE=Event Listing:https://estatesales.org/estate-sales/ca/palm-desert/92211/desert-palms-estate-sales-invites-2436686
PRIORITY:1
CLASS:PUBLIC
SEQUENCE:0
STATUS:CONFIRMED
TRANSP:OPAQUE
END:VEVENT
END:VCALENDAR
