BEGIN:VCALENDAR
VERSION:2.0
METHOD:PUBLISH
BEGIN:VEVENT
DTSTART:20260425T130000Z
DTEND:20260425T150000Z
LOCATION:Baltimore, MD 21212 (Full address will be shown on Fri, Apr 24 12:00am)
TRANSP: OPAQUE
SEQUENCE:0
UID:
DTSTAMP:20260421T112316Z
SUMMARY:75% OFF IN ROGERS FORGE
DESCRIPTION:75% OFF IN ROGERS FORGE Homeward Bound LLC 
UID:1776792196
STREET-ADDRESS:See website
POSTAL-CODE:21212
LOCALITY:Baltimore
REGION:ABBREV=MD
COUNTRY:ABBREV=US;ABBREV=USA:United States
URL;TYPE=Event Listing:https://estatesales.org/estate-sales/md/baltimore/21212/75-off-in-rogers-forge-2436073
PRIORITY:1
CLASS:PUBLIC
SEQUENCE:0
STATUS:CONFIRMED
TRANSP:OPAQUE
END:VEVENT
END:VCALENDAR
