BEGIN:VCALENDAR
VERSION:2.0
METHOD:PUBLISH
BEGIN:VEVENT
DTSTART:20260425T160000Z
DTEND:20260425T230000Z
LOCATION:Sunnyvale, CA 94087 (Full address will be shown on Fri, Apr 24 7:00pm)
TRANSP: OPAQUE
SEQUENCE:0
UID:
DTSTAMP:20260422T171217Z
SUMMARY:Sunnyvale-One day- two families selling treasures. Thank you to all of our loyal customers and our new ones. We appreciate your support as do our client's families!!!
DESCRIPTION:Sunnyvale-One day- two families selling treasures. Thank you to all of our loyal customers and our new ones. We appreciate your support as do our client's families!!! Always At Your Beck and Call-Concierge Estate Services 
UID:1776899537
STREET-ADDRESS:See website
POSTAL-CODE:94087
LOCALITY:Sunnyvale
REGION:ABBREV=CA
COUNTRY:ABBREV=US;ABBREV=USA:United States
URL;TYPE=Event Listing:https://estatesales.org/estate-sales/ca/sunnyvale/94087/sunnyvaleone-day-two-families-selling-2436633
PRIORITY:1
CLASS:PUBLIC
SEQUENCE:0
STATUS:CONFIRMED
TRANSP:OPAQUE
END:VEVENT
END:VCALENDAR
