BEGIN:VCALENDAR
VERSION:2.0
METHOD:PUBLISH
BEGIN:VEVENT
DTSTART:20260425T160000Z
DTEND:20260425T220000Z
LOCATION:Sun City, AZ 85351 (Full address will be shown on Fri, Apr 24 12:00am)
TRANSP: OPAQUE
SEQUENCE:0
UID:
DTSTAMP:20260422T183616Z
SUMMARY:Thunderbird Estate Sale Part Two - 60% off
DESCRIPTION:Thunderbird Estate Sale Part Two - 60% off Blue Moon Estate Sales 
UID:1776904576
STREET-ADDRESS:See website
POSTAL-CODE:85351
LOCALITY:Sun City
REGION:ABBREV=AZ
COUNTRY:ABBREV=US;ABBREV=USA:United States
URL;TYPE=Event Listing:https://estatesales.org/estate-sales/az/sun-city/85351/thunderbird-estate-sale-part-two-2436664
PRIORITY:1
CLASS:PUBLIC
SEQUENCE:0
STATUS:CONFIRMED
TRANSP:OPAQUE
END:VEVENT
END:VCALENDAR
