BEGIN:VCALENDAR
VERSION:2.0
METHOD:PUBLISH
BEGIN:VEVENT
DTSTART:20260425T130000Z
DTEND:20260425T190000Z
LOCATION:Wallingford, CT 06492 (Full address will be shown on Fri, Apr 24 12:00am)
TRANSP: OPAQUE
SEQUENCE:0
UID:
DTSTAMP:20260422T080841Z
SUMMARY:ONE DAY FLASH ESTATE SALE – EVERYTHING MUST GO 🔥
DESCRIPTION:ONE DAY FLASH ESTATE SALE – EVERYTHING MUST GO 🔥 Caring Transitions of Guilford 
UID:1776866921
STREET-ADDRESS:See website
POSTAL-CODE:06492
LOCALITY:Wallingford
REGION:ABBREV=CT
COUNTRY:ABBREV=US;ABBREV=USA:United States
URL;TYPE=Event Listing:https://estatesales.org/estate-sales/ct/-wallingford/06492/one-day-flash-estate-sale-2436547
PRIORITY:1
CLASS:PUBLIC
SEQUENCE:0
STATUS:CONFIRMED
TRANSP:OPAQUE
END:VEVENT
END:VCALENDAR
