BEGIN:VCALENDAR
VERSION:2.0
METHOD:PUBLISH
BEGIN:VEVENT
DTSTART:20260425T140000Z
DTEND:20260425T200000Z
LOCATION:New Auburn, WI 54757 (Full address will be shown on Fri, Apr 24 8:00am)
TRANSP: OPAQUE
SEQUENCE:0
UID:
DTSTAMP:20260420T102740Z
SUMMARY:The Treasure Chest & The Tool Chest: A dual-interest sale you won't want to miss
DESCRIPTION:The Treasure Chest & The Tool Chest: A dual-interest sale you won't want to miss Caring Transitions of the Chippewa Valley 
UID:1776702460
STREET-ADDRESS:See website
POSTAL-CODE:54757
LOCALITY:New Auburn
REGION:ABBREV=WI
COUNTRY:ABBREV=US;ABBREV=USA:United States
URL;TYPE=Event Listing:https://estatesales.org/estate-sales/wi/new-auburn/54757/the-treasure-chest-the-tool-2436136
PRIORITY:1
CLASS:PUBLIC
SEQUENCE:0
STATUS:CONFIRMED
TRANSP:OPAQUE
END:VEVENT
END:VCALENDAR
