BEGIN:VCALENDAR
VERSION:2.0
METHOD:PUBLISH
BEGIN:VEVENT
DTSTART:20260425T120000Z
DTEND:20260426T190000Z
LOCATION:Franklin, IN 46131 (Full address will be shown on Fri, Apr 24 9:00pm)
TRANSP: OPAQUE
SEQUENCE:0
UID:
DTSTAMP:20260423T231521Z
SUMMARY:Art, Photography, and Coca Cola Estate Sale in Franklin!
DESCRIPTION:Art, Photography, and Coca Cola Estate Sale in Franklin! Bezel Estate Sales and Liquidation 
UID:1777007721
STREET-ADDRESS:See website
POSTAL-CODE:46131
LOCALITY:Franklin
REGION:ABBREV=IN
COUNTRY:ABBREV=US;ABBREV=USA:United States
URL;TYPE=Event Listing:https://estatesales.org/estate-sales/in/franklin/46131/art-photography-and-coca-cola-2437007
PRIORITY:1
CLASS:PUBLIC
SEQUENCE:0
STATUS:CONFIRMED
TRANSP:OPAQUE
END:VEVENT
END:VCALENDAR
