BEGIN:VCALENDAR
VERSION:2.0
METHOD:PUBLISH
BEGIN:VEVENT
DTSTART:20260425T150000Z
DTEND:20260426T210000Z
LOCATION:Bakersfield, CA 93308 (Full address will be shown on Fri, Apr 24 5:00pm)
TRANSP: OPAQUE
SEQUENCE:0
UID:
DTSTAMP:20260422T183616Z
SUMMARY:Gorgeous NW Home PACKED with Treasures
DESCRIPTION:Gorgeous NW Home PACKED with Treasures West Coast Legacy Sales 
UID:1776904576
STREET-ADDRESS:See website
POSTAL-CODE:93308
LOCALITY:Bakersfield
REGION:ABBREV=CA
COUNTRY:ABBREV=US;ABBREV=USA:United States
URL;TYPE=Event Listing:https://estatesales.org/estate-sales/ca/bakersfield/93308/gorgeous-nw-home-packed-with-2436680
PRIORITY:1
CLASS:PUBLIC
SEQUENCE:0
STATUS:CONFIRMED
TRANSP:OPAQUE
END:VEVENT
END:VCALENDAR
