BEGIN:VCALENDAR
VERSION:2.0
METHOD:PUBLISH
BEGIN:VEVENT
DTSTART:20260425T150000Z
DTEND:20260425T220000Z
LOCATION:Tucson, AZ 85701 (Full address will be shown on Fri, Apr 24 9:00am)
TRANSP: OPAQUE
SEQUENCE:0
UID:
DTSTAMP:20260423T154021Z
SUMMARY:The Girls Estate Sales ~ Main Ave & Cusing St ~ Downtown
DESCRIPTION:The Girls Estate Sales ~ Main Ave & Cusing St ~ Downtown The Girls Estate Sales 
UID:1776980421
STREET-ADDRESS:See website
POSTAL-CODE:85701
LOCALITY:Tucson
REGION:ABBREV=AZ
COUNTRY:ABBREV=US;ABBREV=USA:United States
URL;TYPE=Event Listing:https://estatesales.org/estate-sales/az/tucson/85701/the-girls-estate-sales-main-2436914
PRIORITY:1
CLASS:PUBLIC
SEQUENCE:0
STATUS:CONFIRMED
TRANSP:OPAQUE
END:VEVENT
END:VCALENDAR
