BEGIN:VCALENDAR
VERSION:2.0
METHOD:PUBLISH
BEGIN:VEVENT
DTSTART:20260425T120000Z
DTEND:20260425T180000Z
LOCATION:Venice, FL 34293 (Full address will be shown on Fri, Apr 24 12:00am)
TRANSP: OPAQUE
SEQUENCE:0
UID:
DTSTAMP:20260422T004258Z
SUMMARY:In Person 1 Day Moving Sale Gulf View Estates Venice FL - We are accepting Pre Sales
DESCRIPTION:In Person 1 Day Moving Sale Gulf View Estates Venice FL - We are accepting Pre Sales Caring Transitions of Venice 
UID:1776840178
STREET-ADDRESS:See website
POSTAL-CODE:34293
LOCALITY:Venice
REGION:ABBREV=FL
COUNTRY:ABBREV=US;ABBREV=USA:United States
URL;TYPE=Event Listing:https://estatesales.org/estate-sales/fl/venice/34293/in-person-1-day-moving-2436341
PRIORITY:1
CLASS:PUBLIC
SEQUENCE:0
STATUS:CONFIRMED
TRANSP:OPAQUE
END:VEVENT
END:VCALENDAR
