BEGIN:VCALENDAR
VERSION:2.0
METHOD:PUBLISH
BEGIN:VEVENT
DTSTART:20250425T140000Z
DTEND:20250427T190000Z
LOCATION:Virginia Beach, VA 23454
TRANSP: OPAQUE
SEQUENCE:0
UID:
DTSTAMP:20260421T032608Z
SUMMARY:3 DAY ESTATE SALE WONDERFUL ESTATE IN GREAT NECK - MID CENTURY MODERN FUNITURE AND ACCESSORIES, CRYSTAL
DESCRIPTION:3 DAY ESTATE SALE WONDERFUL ESTATE IN GREAT NECK - MID CENTURY MODERN FUNITURE AND ACCESSORIES, CRYSTAL Randy's Auction Gallery Ltd. 
UID:1776763568
STREET-ADDRESS:See website
POSTAL-CODE:23454
LOCALITY:Virginia Beach
REGION:ABBREV=VA
COUNTRY:ABBREV=US;ABBREV=USA:United States
URL;TYPE=Event Listing:https://estatesales.org/estate-sales/va/virginia-beach/23454/3-day-estate-sale-wonderful-2371743
PRIORITY:1
CLASS:PUBLIC
SEQUENCE:0
STATUS:CONFIRMED
TRANSP:OPAQUE
END:VEVENT
END:VCALENDAR
