BEGIN:VCALENDAR
VERSION:2.0
METHOD:PUBLISH
BEGIN:VEVENT
DTSTART:20250425T160000Z
DTEND:20250426T210000Z
LOCATION:Littleton, CO 80122
TRANSP: OPAQUE
SEQUENCE:0
UID:
DTSTAMP:20260425T125546Z
SUMMARY:Collectibles in Centennial!
DESCRIPTION:Collectibles in Centennial! CK & Done 
UID:1777143346
STREET-ADDRESS:See website
POSTAL-CODE:80122
LOCALITY:Littleton
REGION:ABBREV=CO
COUNTRY:ABBREV=US;ABBREV=USA:United States
URL;TYPE=Event Listing:https://estatesales.org/estate-sales/co/littleton/80122/collectibles-in-centennial-2373329
PRIORITY:1
CLASS:PUBLIC
SEQUENCE:0
STATUS:CONFIRMED
TRANSP:OPAQUE
END:VEVENT
END:VCALENDAR
