BEGIN:VCALENDAR
VERSION:2.0
METHOD:PUBLISH
BEGIN:VEVENT
DTSTART:20250425T160000Z
DTEND:20250427T230000Z
LOCATION:Fresno, CA 93722
TRANSP: OPAQUE
SEQUENCE:0
UID:
DTSTAMP:20260422T045948Z
SUMMARY:HUGE ESTATE SALE! Antiques & collectibles, furn, yard & garden, kitchen & MORE!
DESCRIPTION:HUGE ESTATE SALE! Antiques & collectibles, furn, yard & garden, kitchen & MORE! Basements and Beyond 
UID:1776855588
STREET-ADDRESS:See website
POSTAL-CODE:93722
LOCALITY:Fresno
REGION:ABBREV=CA
COUNTRY:ABBREV=US;ABBREV=USA:United States
URL;TYPE=Event Listing:https://estatesales.org/estate-sales/ca/fresno/93722/huge-estate-sale-antiques-collectibles-2374491
PRIORITY:1
CLASS:PUBLIC
SEQUENCE:0
STATUS:CONFIRMED
TRANSP:OPAQUE
END:VEVENT
END:VCALENDAR
