BEGIN:VCALENDAR
VERSION:2.0
METHOD:PUBLISH
BEGIN:VEVENT
DTSTART:20250425T130000Z
DTEND:20250426T200000Z
LOCATION:Tampa, FL 33624
TRANSP: OPAQUE
SEQUENCE:0
UID:
DTSTAMP:20260423T083540Z
SUMMARY:V Patton with another Great Down Size Sale in Northdale Tampa,Star Wars, Toys,Tools. Canoe and Much More!
DESCRIPTION:V Patton with another Great Down Size Sale in Northdale Tampa,Star Wars, Toys,Tools. Canoe and Much More! V Patton Estate Sale Options 
UID:1776954940
STREET-ADDRESS:See website
POSTAL-CODE:33624
LOCALITY:Tampa
REGION:ABBREV=FL
COUNTRY:ABBREV=US;ABBREV=USA:United States
URL;TYPE=Event Listing:https://estatesales.org/estate-sales/fl/tampa/33624/v-patton-with-another-great-2373999
PRIORITY:1
CLASS:PUBLIC
SEQUENCE:0
STATUS:CONFIRMED
TRANSP:OPAQUE
END:VEVENT
END:VCALENDAR
