BEGIN:VCALENDAR
VERSION:2.0
METHOD:PUBLISH
BEGIN:VEVENT
DTSTART:20250425T160000Z
DTEND:20250426T210000Z
LOCATION:Bakersfield, CA 93311
TRANSP: OPAQUE
SEQUENCE:0
UID:
DTSTAMP:20260421T115723Z
SUMMARY:Here's your chance to own a piece of history! Brought to you by Senior Move Manager & More!
DESCRIPTION:Here's your chance to own a piece of history! Brought to you by Senior Move Manager & More! Senior Move Manager & More! 
UID:1776794243
STREET-ADDRESS:See website
POSTAL-CODE:93311
LOCALITY:Bakersfield
REGION:ABBREV=CA
COUNTRY:ABBREV=US;ABBREV=USA:United States
URL;TYPE=Event Listing:https://estatesales.org/estate-sales/ca/bakersfield/93311/heres-your-chance-to-own-2373723
PRIORITY:1
CLASS:PUBLIC
SEQUENCE:0
STATUS:CONFIRMED
TRANSP:OPAQUE
END:VEVENT
END:VCALENDAR
