BEGIN:VCALENDAR
VERSION:2.0
METHOD:PUBLISH
BEGIN:VEVENT
DTSTART:20250425T140000Z
DTEND:20250426T220000Z
LOCATION:Monument, CO 80132
TRANSP: OPAQUE
SEQUENCE:0
UID:
DTSTAMP:20260420T204617Z
SUMMARY:Large Family Home Estate Sale. EVERYTHING MUST GO
DESCRIPTION:Large Family Home Estate Sale. EVERYTHING MUST GO Total Care Estate and Property Services 
UID:1776739577
STREET-ADDRESS:See website
POSTAL-CODE:80132
LOCALITY:Monument
REGION:ABBREV=CO
COUNTRY:ABBREV=US;ABBREV=USA:United States
URL;TYPE=Event Listing:https://estatesales.org/estate-sales/co/monument-/80132/large-family-home-estate-sale-2373733
PRIORITY:1
CLASS:PUBLIC
SEQUENCE:0
STATUS:CONFIRMED
TRANSP:OPAQUE
END:VEVENT
END:VCALENDAR
