BEGIN:VCALENDAR
VERSION:2.0
METHOD:PUBLISH
BEGIN:VEVENT
DTSTART:20170425T200000Z
DTEND:20170426T220000Z
LOCATION:Indianapolis, IN 46259
TRANSP: OPAQUE
SEQUENCE:0
UID:
DTSTAMP:20260419T233820Z
SUMMARY:Moving Sale in Indy Furniture-Sports-Jewelry-Coins MORE PICTURES ADDED!!
DESCRIPTION:Moving Sale in Indy Furniture-Sports-Jewelry-Coins MORE PICTURES ADDED!! High Mountain Antiques & Estate Sales 
UID:1776663500
STREET-ADDRESS:See website
POSTAL-CODE:46259
LOCALITY:Indianapolis
REGION:ABBREV=IN
COUNTRY:ABBREV=US;ABBREV=USA:United States
URL;TYPE=Event Listing:https://estatesales.org/estate-sales/in/indianapolis/46259/moving-sale-in-indy-furnituresportsjewelrycoins-1161265
PRIORITY:1
CLASS:PUBLIC
SEQUENCE:0
STATUS:CONFIRMED
TRANSP:OPAQUE
END:VEVENT
END:VCALENDAR
