BEGIN:VCALENDAR
VERSION:2.0
METHOD:PUBLISH
BEGIN:VEVENT
DTSTART:20140425T160000Z
DTEND:20140426T220000Z
LOCATION:By appointment only.
TRANSP: OPAQUE
SEQUENCE:0
UID:
DTSTAMP:20260425T044942Z
SUMMARY:OVER 40 YEARS OF TREASURES - ESTATE SALE BY APPOINTMENT ONLY!!
DESCRIPTION:OVER 40 YEARS OF TREASURES - ESTATE SALE BY APPOINTMENT ONLY!! Juanita's JUNK in the TRUNK - Estate Sales & Liquidation Sales 
UID:1777114182
STREET-ADDRESS:See website
POSTAL-CODE:91730
LOCALITY:Rancho Cucamonga
REGION:ABBREV=CA
COUNTRY:ABBREV=US;ABBREV=USA:United States
URL;TYPE=Event Listing:https://estatesales.org/estate-sales/ca/rancho-cucamonga/91730/over-40-years-of-treasures-373577
PRIORITY:1
CLASS:PUBLIC
SEQUENCE:0
STATUS:CONFIRMED
TRANSP:OPAQUE
END:VEVENT
END:VCALENDAR
