BEGIN:VCALENDAR
VERSION:2.0
METHOD:PUBLISH
BEGIN:VEVENT
DTSTART:20140425T140000Z
DTEND:20140427T230000Z
LOCATION:Fort Collins, CO 80526
TRANSP: OPAQUE
SEQUENCE:0
UID:
DTSTAMP:20260419T113717Z
SUMMARY:Huge Collectors Estate/Moving Sale!!!
DESCRIPTION:Huge Collectors Estate/Moving Sale!!! Fistell's Fine Art and Collectibles  
UID:1776620237
STREET-ADDRESS:See website
POSTAL-CODE:80526
LOCALITY:Fort Collins
REGION:ABBREV=CO
COUNTRY:ABBREV=US;ABBREV=USA:United States
URL;TYPE=Event Listing:https://estatesales.org/estate-sales/co/fort-collins/80526/huge-collectors-estatemoving-sale-372575
PRIORITY:1
CLASS:PUBLIC
SEQUENCE:0
STATUS:CONFIRMED
TRANSP:OPAQUE
END:VEVENT
END:VCALENDAR
