BEGIN:VCALENDAR
VERSION:2.0
METHOD:PUBLISH
BEGIN:VEVENT
DTSTART:20260424T160000Z
DTEND:20260425T170000Z
LOCATION:Fallston, MD 21047 (Full address will be shown on Wed, Apr 22 5:00pm)
TRANSP: OPAQUE
SEQUENCE:0
UID:
DTSTAMP:20260421T095159Z
SUMMARY:TURNING LEAF ESTATE SALE
DESCRIPTION:TURNING LEAF ESTATE SALE Turning Leaf 
UID:1776786719
STREET-ADDRESS:See website
POSTAL-CODE:21047
LOCALITY:Fallston
REGION:ABBREV=MD
COUNTRY:ABBREV=US;ABBREV=USA:United States
URL;TYPE=Event Listing:https://estatesales.org/estate-sales/md/fallston/21047/turning-leaf-estate-sale-2436335
PRIORITY:1
CLASS:PUBLIC
SEQUENCE:0
STATUS:CONFIRMED
TRANSP:OPAQUE
END:VEVENT
END:VCALENDAR
