BEGIN:VCALENDAR
VERSION:2.0
METHOD:PUBLISH
BEGIN:VEVENT
DTSTART:20260424T150000Z
DTEND:20260426T190000Z
LOCATION:Spotsylvania Courthouse, VA 22551 (Full address will be shown on Thu, Apr 23 7:00am)
TRANSP: OPAQUE
SEQUENCE:0
UID:
DTSTAMP:20260421T182059Z
SUMMARY:Fawn Lake Downsizing Sale!
DESCRIPTION:Fawn Lake Downsizing Sale! Southern Accents 
UID:1776817259
STREET-ADDRESS:See website
POSTAL-CODE:22551
LOCALITY:Spotsylvania Courthouse
REGION:ABBREV=VA
COUNTRY:ABBREV=US;ABBREV=USA:United States
URL;TYPE=Event Listing:https://estatesales.org/estate-sales/va/spotsylvania-courthouse/22551/fawn-lake-downsizing-sale-2436410
PRIORITY:1
CLASS:PUBLIC
SEQUENCE:0
STATUS:CONFIRMED
TRANSP:OPAQUE
END:VEVENT
END:VCALENDAR
