BEGIN:VCALENDAR
VERSION:2.0
METHOD:PUBLISH
BEGIN:VEVENT
DTSTART:20260424T170000Z
DTEND:20260427T223000Z
LOCATION:By appointment only.
TRANSP: OPAQUE
SEQUENCE:0
UID:
DTSTAMP:20260423T202753Z
SUMMARY:ESTATE SALE - By Appointment Only (Barstow & West in Fresno) SALE ENDS APRIL 27th
DESCRIPTION:ESTATE SALE - By Appointment Only (Barstow & West in Fresno) SALE ENDS APRIL 27th Leftover Treasures 
UID:1776997673
STREET-ADDRESS:See website
POSTAL-CODE:93711
LOCALITY:Fresno
REGION:ABBREV=CA
COUNTRY:ABBREV=US;ABBREV=USA:United States
URL;TYPE=Event Listing:https://estatesales.org/estate-sales/ca/fresno/93711/estate-sale-by-appointment-only-2436976
PRIORITY:1
CLASS:PUBLIC
SEQUENCE:0
STATUS:CONFIRMED
TRANSP:OPAQUE
END:VEVENT
END:VCALENDAR
