BEGIN:VCALENDAR
VERSION:2.0
METHOD:PUBLISH
BEGIN:VEVENT
DTSTART:20260424T150000Z
DTEND:20260427T190000Z
LOCATION:Mound, MN 55364 (Full address will be shown on Thu, Apr 23 9:00am)
TRANSP: OPAQUE
SEQUENCE:0
UID:
DTSTAMP:20260423T040444Z
SUMMARY:Wow !!! Enchanted Island Mound
DESCRIPTION:Wow !!! Enchanted Island Mound Hiawatha Sales 
UID:1776938684
STREET-ADDRESS:See website
POSTAL-CODE:55364
LOCALITY:Mound
REGION:ABBREV=MN
COUNTRY:ABBREV=US;ABBREV=USA:United States
URL;TYPE=Event Listing:https://estatesales.org/estate-sales/mn/mound/55364/wow-enchanted-island-mound-2435386
PRIORITY:1
CLASS:PUBLIC
SEQUENCE:0
STATUS:CONFIRMED
TRANSP:OPAQUE
END:VEVENT
END:VCALENDAR
