BEGIN:VCALENDAR
VERSION:2.0
METHOD:PUBLISH
BEGIN:VEVENT
DTSTART:20260424T140000Z
DTEND:20260426T190000Z
LOCATION:Laurel, MD 20707 (Full address will be shown on Thu, Apr 23 12:00am)
TRANSP: OPAQUE
SEQUENCE:0
UID:
DTSTAMP:20260420T004825Z
SUMMARY:Victoria Falls Vintage Vault” Estate Sale (Laurel, MD)
DESCRIPTION:Victoria Falls Vintage Vault” Estate Sale (Laurel, MD) Lasting Treasures Estate Sales 
UID:1776667705
STREET-ADDRESS:See website
POSTAL-CODE:20707
LOCALITY:Laurel
REGION:ABBREV=MD
COUNTRY:ABBREV=US;ABBREV=USA:United States
URL;TYPE=Event Listing:https://estatesales.org/estate-sales/md/laurel/20707/victoria-falls-vintage-vault-estate-2436113
PRIORITY:1
CLASS:PUBLIC
SEQUENCE:0
STATUS:CONFIRMED
TRANSP:OPAQUE
END:VEVENT
END:VCALENDAR
