BEGIN:VCALENDAR
VERSION:2.0
METHOD:PUBLISH
BEGIN:VEVENT
DTSTART:20260424T160000Z
DTEND:20260426T210000Z
LOCATION:Frisco, TX 75035 (Full address will be shown on Thu, Apr 23 9:00am)
TRANSP: OPAQUE
SEQUENCE:0
UID:
DTSTAMP:20260422T154430Z
SUMMARY:Fantastic in Frisco - solid wood furniture, electronics, collectibles and lots of men's clothes!
DESCRIPTION:Fantastic in Frisco - solid wood furniture, electronics, collectibles and lots of men's clothes! Fortuna Estate Sales (and Staging) 
UID:1776894270
STREET-ADDRESS:See website
POSTAL-CODE:75035
LOCALITY:Frisco
REGION:ABBREV=TX
COUNTRY:ABBREV=US;ABBREV=USA:United States
URL;TYPE=Event Listing:https://estatesales.org/estate-sales/tx/frisco/75035/fantastic-in-frisco-solid-wood-2434984
PRIORITY:1
CLASS:PUBLIC
SEQUENCE:0
STATUS:CONFIRMED
TRANSP:OPAQUE
END:VEVENT
END:VCALENDAR
