BEGIN:VCALENDAR
VERSION:2.0
METHOD:PUBLISH
BEGIN:VEVENT
DTSTART:20260424T170000Z
DTEND:20260426T210000Z
LOCATION:San Jose, CA 95117 (Full address will be shown on Thu, Apr 23 12:00am)
TRANSP: OPAQUE
SEQUENCE:0
UID:
DTSTAMP:20260422T135809Z
SUMMARY:📢 ESTATE SALE & SILENT ART AUCTION
DESCRIPTION:📢 ESTATE SALE & SILENT ART AUCTION
UID:1776887889
STREET-ADDRESS:See website
POSTAL-CODE:95117
LOCALITY:San Jose
REGION:ABBREV=CA
COUNTRY:ABBREV=US;ABBREV=USA:United States
URL;TYPE=Event Listing:https://estatesales.org/estate-sales/ca/san-jose-/95117/estate-sale-silent-art-auction-2436617
PRIORITY:1
CLASS:PUBLIC
SEQUENCE:0
STATUS:CONFIRMED
TRANSP:OPAQUE
END:VEVENT
END:VCALENDAR
