BEGIN:VCALENDAR
VERSION:2.0
METHOD:PUBLISH
BEGIN:VEVENT
DTSTART:20260424T170000Z
DTEND:20260426T200000Z
LOCATION:Tehachapi, CA 93561 (Full address will be shown on Thu, Apr 23 12:00am)
TRANSP: OPAQUE
SEQUENCE:0
UID:
DTSTAMP:20260420T042636Z
SUMMARY:Go2Girlz Presents Farm Sale ! House with Small Garage & Storage Shop . Starts 4/24
DESCRIPTION:Go2Girlz Presents Farm Sale ! House with Small Garage & Storage Shop . Starts 4/24 Go2Girlz Estate Sales 
UID:1776680796
STREET-ADDRESS:See website
POSTAL-CODE:93561
LOCALITY:Tehachapi
REGION:ABBREV=CA
COUNTRY:ABBREV=US;ABBREV=USA:United States
URL;TYPE=Event Listing:https://estatesales.org/estate-sales/ca/tehachapi/93561/go2girlz-presents-farm-sale-house-2436108
PRIORITY:1
CLASS:PUBLIC
SEQUENCE:0
STATUS:CONFIRMED
TRANSP:OPAQUE
END:VEVENT
END:VCALENDAR
