BEGIN:VCALENDAR
VERSION:2.0
METHOD:PUBLISH
BEGIN:VEVENT
DTSTART:20260424T140000Z
DTEND:20260425T200000Z
LOCATION:Roswell, GA 30075 (Full address will be shown on Thu, Apr 23 12:00am)
TRANSP: OPAQUE
SEQUENCE:0
UID:
DTSTAMP:20260422T111236Z
SUMMARY:HIGH END ROSWELL ESTATE SALE – 2 HOUSES – PACKED – JEWELRY – CLOTHING – TOOLS – COLLECTIBLES!
DESCRIPTION:HIGH END ROSWELL ESTATE SALE – 2 HOUSES – PACKED – JEWELRY – CLOTHING – TOOLS – COLLECTIBLES! Goldberg Collectors 
UID:1776877956
STREET-ADDRESS:See website
POSTAL-CODE:30075
LOCALITY:Roswell
REGION:ABBREV=GA
COUNTRY:ABBREV=US;ABBREV=USA:United States
URL;TYPE=Event Listing:https://estatesales.org/estate-sales/ga/roswell/30075/high-end-roswell-estate-sale-2436558
PRIORITY:1
CLASS:PUBLIC
SEQUENCE:0
STATUS:CONFIRMED
TRANSP:OPAQUE
END:VEVENT
END:VCALENDAR
