BEGIN:VCALENDAR
VERSION:2.0
METHOD:PUBLISH
BEGIN:VEVENT
DTSTART:20260424T160000Z
DTEND:20260425T190000Z
LOCATION:Morrison, CO 80465 (Full address will be shown on Thu, Apr 23 8:00am)
TRANSP: OPAQUE
SEQUENCE:0
UID:
DTSTAMP:20260422T080841Z
SUMMARY:Tools, Cameras and Camera Equipment, Hunting, Fishing, Bikes, Musical Instruments and More!
DESCRIPTION:Tools, Cameras and Camera Equipment, Hunting, Fishing, Bikes, Musical Instruments and More! Caring Transitions of West Denver 
UID:1776866921
STREET-ADDRESS:See website
POSTAL-CODE:80465
LOCALITY:Morrison
REGION:ABBREV=CO
COUNTRY:ABBREV=US;ABBREV=USA:United States
URL;TYPE=Event Listing:https://estatesales.org/estate-sales/co/morrison/80465/tools-cameras-and-camera-equipment-2436446
PRIORITY:1
CLASS:PUBLIC
SEQUENCE:0
STATUS:CONFIRMED
TRANSP:OPAQUE
END:VEVENT
END:VCALENDAR
