BEGIN:VCALENDAR
VERSION:2.0
METHOD:PUBLISH
BEGIN:VEVENT
DTSTART:20260424T133000Z
DTEND:20260425T190000Z
LOCATION:Fairfield, NJ 07004 (Full address will be shown on Thu, Apr 23 12:00am)
TRANSP: OPAQUE
SEQUENCE:0
UID:
DTSTAMP:20260421T154807Z
SUMMARY:Grand Estate Sale: Hidden Treasures & Antique Finds Fairfield, NJ | April 24th & April 25th
DESCRIPTION:Grand Estate Sale: Hidden Treasures & Antique Finds Fairfield, NJ | April 24th & April 25th Pink Lady Liquidation 
UID:1776808087
STREET-ADDRESS:See website
POSTAL-CODE:07004
LOCALITY:Fairfield
REGION:ABBREV=NJ
COUNTRY:ABBREV=US;ABBREV=USA:United States
URL;TYPE=Event Listing:https://estatesales.org/estate-sales/nj/fairfield/07004/grand-estate-sale-hidden-treasures-2436407
PRIORITY:1
CLASS:PUBLIC
SEQUENCE:0
STATUS:CONFIRMED
TRANSP:OPAQUE
END:VEVENT
END:VCALENDAR
