BEGIN:VCALENDAR
VERSION:2.0
METHOD:PUBLISH
BEGIN:VEVENT
DTSTART:20260424T160000Z
DTEND:20260426T220000Z
LOCATION:Sacramento, CA 95841 (Full address will be shown on Fri, Apr 24 6:00am)
TRANSP: OPAQUE
SEQUENCE:0
UID:
DTSTAMP:20260421T053241Z
SUMMARY:TOOLS & COMPUTER TECH
DESCRIPTION:TOOLS & COMPUTER TECH Attic to Basement Estate Liquidators 
UID:1776771161
STREET-ADDRESS:See website
POSTAL-CODE:95841
LOCALITY:Sacramento
REGION:ABBREV=CA
COUNTRY:ABBREV=US;ABBREV=USA:United States
URL;TYPE=Event Listing:https://estatesales.org/estate-sales/ca/sacramento/95841/tools-computer-tech-2436321
PRIORITY:1
CLASS:PUBLIC
SEQUENCE:0
STATUS:CONFIRMED
TRANSP:OPAQUE
END:VEVENT
END:VCALENDAR
