BEGIN:VCALENDAR
VERSION:2.0
METHOD:PUBLISH
BEGIN:VEVENT
DTSTART:20260424T160000Z
DTEND:20260426T210000Z
LOCATION:Roseville, CA 95661 (Full address will be shown on Fri, Apr 24 3:00am)
TRANSP: OPAQUE
SEQUENCE:0
UID:
DTSTAMP:20260422T022011Z
SUMMARY:HIDDEN JEMS IN ROSEVILLE
DESCRIPTION:HIDDEN JEMS IN ROSEVILLE Unfound Treasures 
UID:1776846011
STREET-ADDRESS:See website
POSTAL-CODE:95661
LOCALITY:Roseville
REGION:ABBREV=CA
COUNTRY:ABBREV=US;ABBREV=USA:United States
URL;TYPE=Event Listing:https://estatesales.org/estate-sales/ca/roseville/95661/hidden-jems-in-roseville-2436533
PRIORITY:1
CLASS:PUBLIC
SEQUENCE:0
STATUS:CONFIRMED
TRANSP:OPAQUE
END:VEVENT
END:VCALENDAR
