BEGIN:VCALENDAR
VERSION:2.0
METHOD:PUBLISH
BEGIN:VEVENT
DTSTART:20260424T130000Z
DTEND:20260426T180000Z
LOCATION:Macon, GA 31210 (Full address will be shown on Thu, Apr 23 12:00am)
TRANSP: OPAQUE
SEQUENCE:0
UID:
DTSTAMP:20260422T003042Z
SUMMARY:White House Plantation Estate Sale 31210
DESCRIPTION:White House Plantation Estate Sale 31210 Caring Transitions of Macon, GA. 
UID:1776839442
STREET-ADDRESS:See website
POSTAL-CODE:31210
LOCALITY:Macon
REGION:ABBREV=GA
COUNTRY:ABBREV=US;ABBREV=USA:United States
URL;TYPE=Event Listing:https://estatesales.org/estate-sales/ga/macon/31210/white-house-plantation-estate-sale-2436504
PRIORITY:1
CLASS:PUBLIC
SEQUENCE:0
STATUS:CONFIRMED
TRANSP:OPAQUE
END:VEVENT
END:VCALENDAR
