BEGIN:VCALENDAR
VERSION:2.0
METHOD:PUBLISH
BEGIN:VEVENT
DTSTART:20260424T160000Z
DTEND:20260426T210000Z
LOCATION:Napa, CA 94558 (Full address will be shown on Fri, Apr 24 6:00am)
TRANSP: OPAQUE
SEQUENCE:0
UID:
DTSTAMP:20260422T024814Z
SUMMARY:Upscale Napa Home Moving Sale
DESCRIPTION:Upscale Napa Home Moving Sale FULL CIRCLE ESTATE SALE 
UID:1776847694
STREET-ADDRESS:See website
POSTAL-CODE:94558
LOCALITY:Napa
REGION:ABBREV=CA
COUNTRY:ABBREV=US;ABBREV=USA:United States
URL;TYPE=Event Listing:https://estatesales.org/estate-sales/ca/napa/94558/upscale-napa-home-moving-sale-2436475
PRIORITY:1
CLASS:PUBLIC
SEQUENCE:0
STATUS:CONFIRMED
TRANSP:OPAQUE
END:VEVENT
END:VCALENDAR
