BEGIN:VCALENDAR
VERSION:2.0
METHOD:PUBLISH
BEGIN:VEVENT
DTSTART:20260424T160000Z
DTEND:20260426T210000Z
LOCATION:Carmichael, CA 95608 (Full address will be shown on Fri, Apr 24 6:00am)
TRANSP: OPAQUE
SEQUENCE:0
UID:
DTSTAMP:20260421T160035Z
SUMMARY:CARMICHAEL CLEAN WELL KEPT BEAUTIFUL HOME
DESCRIPTION:CARMICHAEL CLEAN WELL KEPT BEAUTIFUL HOME Attic to Basement Estate Liquidators 
UID:1776808835
STREET-ADDRESS:See website
POSTAL-CODE:95608
LOCALITY:Carmichael
REGION:ABBREV=CA
COUNTRY:ABBREV=US;ABBREV=USA:United States
URL;TYPE=Event Listing:https://estatesales.org/estate-sales/ca/carmichael/95608/carmichael-clean-well-kept-beautiful-2436422
PRIORITY:1
CLASS:PUBLIC
SEQUENCE:0
STATUS:CONFIRMED
TRANSP:OPAQUE
END:VEVENT
END:VCALENDAR
