BEGIN:VCALENDAR
VERSION:2.0
METHOD:PUBLISH
BEGIN:VEVENT
DTSTART:20260424T130000Z
DTEND:20260426T170000Z
LOCATION:Charleston, SC 29412 (Full address will be shown on Thu, Apr 23 9:00am)
TRANSP: OPAQUE
SEQUENCE:0
UID:
DTSTAMP:20260421T235241Z
SUMMARY:Great 2 Day Sale!!!
DESCRIPTION:Great 2 Day Sale!!! Anthony Family Estate Sales 
UID:1776837161
STREET-ADDRESS:See website
POSTAL-CODE:29412
LOCALITY:Charleston
REGION:ABBREV=SC
COUNTRY:ABBREV=US;ABBREV=USA:United States
URL;TYPE=Event Listing:https://estatesales.org/estate-sales/sc/charleston-/29412/great-2-day-sale-2436508
PRIORITY:1
CLASS:PUBLIC
SEQUENCE:0
STATUS:CONFIRMED
TRANSP:OPAQUE
END:VEVENT
END:VCALENDAR
