BEGIN:VCALENDAR
VERSION:2.0
METHOD:PUBLISH
BEGIN:VEVENT
DTSTART:20260424T150000Z
DTEND:20260425T220000Z
LOCATION:Edmond, OK 73034 (Full address will be shown on Thu, Apr 23 12:00am)
TRANSP: OPAQUE
SEQUENCE:0
UID:
DTSTAMP:20260421T131125Z
SUMMARY:BLONDIES ESTATE SALE / DOUBLE SALE WEEKEND / EDMOND / FRI APR 24, 9-4 / SAT APR 25, 12-4
DESCRIPTION:BLONDIES ESTATE SALE / DOUBLE SALE WEEKEND / EDMOND / FRI APR 24, 9-4 / SAT APR 25, 12-4 Blondies Estate Sales 
UID:1776798685
STREET-ADDRESS:See website
POSTAL-CODE:73034
LOCALITY:Edmond
REGION:ABBREV=OK
COUNTRY:ABBREV=US;ABBREV=USA:United States
URL;TYPE=Event Listing:https://estatesales.org/estate-sales/ok/edmond/73034/blondies-estate-sale-double-sale-2436337
PRIORITY:1
CLASS:PUBLIC
SEQUENCE:0
STATUS:CONFIRMED
TRANSP:OPAQUE
END:VEVENT
END:VCALENDAR
